BEGIN:VCALENDAR
VERSION:2.0
PRODID:-//TRIATLÓN VALDEBEBAS - ECPv6.15.20//NONSGML v1.0//EN
CALSCALE:GREGORIAN
METHOD:PUBLISH
X-WR-CALNAME:TRIATLÓN VALDEBEBAS
X-ORIGINAL-URL:https://triatlonvaldebebas.com
X-WR-CALDESC:Eventos para TRIATLÓN VALDEBEBAS
REFRESH-INTERVAL;VALUE=DURATION:PT1H
X-Robots-Tag:noindex
X-PUBLISHED-TTL:PT1H
BEGIN:VTIMEZONE
TZID:Europe/Madrid
BEGIN:DAYLIGHT
TZOFFSETFROM:+0100
TZOFFSETTO:+0200
TZNAME:CEST
DTSTART:20250330T010000
END:DAYLIGHT
BEGIN:STANDARD
TZOFFSETFROM:+0200
TZOFFSETTO:+0100
TZNAME:CET
DTSTART:20251026T010000
END:STANDARD
BEGIN:DAYLIGHT
TZOFFSETFROM:+0100
TZOFFSETTO:+0200
TZNAME:CEST
DTSTART:20260329T010000
END:DAYLIGHT
BEGIN:STANDARD
TZOFFSETFROM:+0200
TZOFFSETTO:+0100
TZNAME:CET
DTSTART:20261025T010000
END:STANDARD
BEGIN:DAYLIGHT
TZOFFSETFROM:+0100
TZOFFSETTO:+0200
TZNAME:CEST
DTSTART:20270328T010000
END:DAYLIGHT
BEGIN:STANDARD
TZOFFSETFROM:+0200
TZOFFSETTO:+0100
TZNAME:CET
DTSTART:20271031T010000
END:STANDARD
END:VTIMEZONE
BEGIN:VEVENT
DTSTART;TZID=Europe/Madrid:20260516T080000
DTEND;TZID=Europe/Madrid:20260516T130000
DTSTAMP:20260422T123808
CREATED:20251230T175512Z
LAST-MODIFIED:20260208T203557Z
UID:3096-1778918400-1778936400@triatlonvaldebebas.com
SUMMARY:Cto. Madrid Triatlón ESCOLAR @ Tres Cantos (JUV+CAD+INF+ALV)
DESCRIPTION:Prueba prioritaria equipo. \nCto. de Madrid de Triatlón: JUVENIL + CADETE + INFANTIL + ALEVÍN. \n 
URL:https://triatlonvaldebebas.com/event/cto-madrid-triatlon-escolar-tres-cantos
END:VEVENT
BEGIN:VEVENT
DTSTART;TZID=Europe/Madrid:20260516T150000
DTEND;TZID=Europe/Madrid:20260516T190000
DTSTAMP:20260422T123808
CREATED:20251230T171125Z
LAST-MODIFIED:20260208T210258Z
UID:3067-1778943600-1778958000@triatlonvaldebebas.com
SUMMARY:Cto. Madrid Triatlón Sprint - Tres Cantos
DESCRIPTION:
URL:https://triatlonvaldebebas.com/event/cto-madrid-triatlon-sprint-tres-cantos
END:VEVENT
END:VCALENDAR