BEGIN:VCALENDAR
VERSION:2.0
PRODID:-//TRIATLÓN VALDEBEBAS - ECPv6.15.20//NONSGML v1.0//EN
CALSCALE:GREGORIAN
METHOD:PUBLISH
X-ORIGINAL-URL:https://triatlonvaldebebas.com
X-WR-CALDESC:Eventos para TRIATLÓN VALDEBEBAS
REFRESH-INTERVAL;VALUE=DURATION:PT1H
X-Robots-Tag:noindex
X-PUBLISHED-TTL:PT1H
BEGIN:VTIMEZONE
TZID:Europe/Madrid
BEGIN:DAYLIGHT
TZOFFSETFROM:+0100
TZOFFSETTO:+0200
TZNAME:CEST
DTSTART:20250330T010000
END:DAYLIGHT
BEGIN:STANDARD
TZOFFSETFROM:+0200
TZOFFSETTO:+0100
TZNAME:CET
DTSTART:20251026T010000
END:STANDARD
BEGIN:DAYLIGHT
TZOFFSETFROM:+0100
TZOFFSETTO:+0200
TZNAME:CEST
DTSTART:20260329T010000
END:DAYLIGHT
BEGIN:STANDARD
TZOFFSETFROM:+0200
TZOFFSETTO:+0100
TZNAME:CET
DTSTART:20261025T010000
END:STANDARD
BEGIN:DAYLIGHT
TZOFFSETFROM:+0100
TZOFFSETTO:+0200
TZNAME:CEST
DTSTART:20270328T010000
END:DAYLIGHT
BEGIN:STANDARD
TZOFFSETFROM:+0200
TZOFFSETTO:+0100
TZNAME:CET
DTSTART:20271031T010000
END:STANDARD
END:VTIMEZONE
BEGIN:VEVENT
DTSTART;TZID=Europe/Madrid:20260606T080000
DTEND;TZID=Europe/Madrid:20260606T110000
DTSTAMP:20260420T104741
CREATED:20251230T180658Z
LAST-MODIFIED:20260208T211052Z
UID:3104-1780732800-1780743600@triatlonvaldebebas.com
SUMMARY:Cto. Madrid (INF+ALV) - Acuatlón ESCOLAR @ Móstoles
DESCRIPTION:Natación: en piscina exterior (50m). \nCto. Madrid Acuatlón INFANTIL y ALEVÍN.
URL:https://triatlonvaldebebas.com/event/acuatlon-escolar-mostoles
END:VEVENT
END:VCALENDAR