BEGIN:VCALENDAR
VERSION:2.0
PRODID:-//TRIATLÓN VALDEBEBAS - ECPv6.15.20//NONSGML v1.0//EN
CALSCALE:GREGORIAN
METHOD:PUBLISH
X-WR-CALNAME:TRIATLÓN VALDEBEBAS
X-ORIGINAL-URL:https://triatlonvaldebebas.com
X-WR-CALDESC:Eventos para TRIATLÓN VALDEBEBAS
REFRESH-INTERVAL;VALUE=DURATION:PT1H
X-Robots-Tag:noindex
X-PUBLISHED-TTL:PT1H
BEGIN:VTIMEZONE
TZID:Europe/Madrid
BEGIN:DAYLIGHT
TZOFFSETFROM:+0100
TZOFFSETTO:+0200
TZNAME:CEST
DTSTART:20250330T010000
END:DAYLIGHT
BEGIN:STANDARD
TZOFFSETFROM:+0200
TZOFFSETTO:+0100
TZNAME:CET
DTSTART:20251026T010000
END:STANDARD
BEGIN:DAYLIGHT
TZOFFSETFROM:+0100
TZOFFSETTO:+0200
TZNAME:CEST
DTSTART:20260329T010000
END:DAYLIGHT
BEGIN:STANDARD
TZOFFSETFROM:+0200
TZOFFSETTO:+0100
TZNAME:CET
DTSTART:20261025T010000
END:STANDARD
BEGIN:DAYLIGHT
TZOFFSETFROM:+0100
TZOFFSETTO:+0200
TZNAME:CEST
DTSTART:20270328T010000
END:DAYLIGHT
BEGIN:STANDARD
TZOFFSETFROM:+0200
TZOFFSETTO:+0100
TZNAME:CET
DTSTART:20271031T010000
END:STANDARD
END:VTIMEZONE
BEGIN:VEVENT
DTSTART;TZID=Europe/Madrid:20260607T083000
DTEND;TZID=Europe/Madrid:20260607T130000
DTSTAMP:20260420T104536
CREATED:20251230T171323Z
LAST-MODIFIED:20251230T171323Z
UID:3070-1780821000-1780837200@triatlonvaldebebas.com
SUMMARY:Cto. Madrid Triatlón Olímpico -  Aranjuez
DESCRIPTION:
URL:https://triatlonvaldebebas.com/event/cto-madrid-triatlon-olimpico-aranjuez
END:VEVENT
END:VCALENDAR