BEGIN:VCALENDAR
VERSION:2.0
PRODID:-//TRIATLÓN VALDEBEBAS - ECPv6.15.20//NONSGML v1.0//EN
CALSCALE:GREGORIAN
METHOD:PUBLISH
X-ORIGINAL-URL:https://triatlonvaldebebas.com
X-WR-CALDESC:Eventos para TRIATLÓN VALDEBEBAS
REFRESH-INTERVAL;VALUE=DURATION:PT1H
X-Robots-Tag:noindex
X-PUBLISHED-TTL:PT1H
BEGIN:VTIMEZONE
TZID:Europe/Madrid
BEGIN:DAYLIGHT
TZOFFSETFROM:+0100
TZOFFSETTO:+0200
TZNAME:CEST
DTSTART:20250330T010000
END:DAYLIGHT
BEGIN:STANDARD
TZOFFSETFROM:+0200
TZOFFSETTO:+0100
TZNAME:CET
DTSTART:20251026T010000
END:STANDARD
BEGIN:DAYLIGHT
TZOFFSETFROM:+0100
TZOFFSETTO:+0200
TZNAME:CEST
DTSTART:20260329T010000
END:DAYLIGHT
BEGIN:STANDARD
TZOFFSETFROM:+0200
TZOFFSETTO:+0100
TZNAME:CET
DTSTART:20261025T010000
END:STANDARD
BEGIN:DAYLIGHT
TZOFFSETFROM:+0100
TZOFFSETTO:+0200
TZNAME:CEST
DTSTART:20270328T010000
END:DAYLIGHT
BEGIN:STANDARD
TZOFFSETFROM:+0200
TZOFFSETTO:+0100
TZNAME:CET
DTSTART:20271031T010000
END:STANDARD
END:VTIMEZONE
BEGIN:VEVENT
DTSTART;TZID=Europe/Madrid:20260613T080000
DTEND;TZID=Europe/Madrid:20260613T110000
DTSTAMP:20260420T122127
CREATED:20251230T180936Z
LAST-MODIFIED:20260208T205935Z
UID:3107-1781337600-1781348400@triatlonvaldebebas.com
SUMMARY:Triatlón ESCOLAR JDM @ Juan De Dios Román-Vallecas
DESCRIPTION:Juegos Deportivos Municipales (JMD). NO puntuable en Ránking FM Triatlón Escolar. Solo pueden participar las categorías: ALEVÍN\, BENJAMÍN Y PREBENJAMÍN. Prueba gratuita.
URL:https://triatlonvaldebebas.com/event/triatlon-escolar-jdm-juan-de-dios-roman-vallecas
END:VEVENT
END:VCALENDAR