BEGIN:VCALENDAR
VERSION:2.0
PRODID:-//TRIATLÓN VALDEBEBAS - ECPv6.15.20//NONSGML v1.0//EN
CALSCALE:GREGORIAN
METHOD:PUBLISH
X-ORIGINAL-URL:https://triatlonvaldebebas.com
X-WR-CALDESC:Eventos para TRIATLÓN VALDEBEBAS
REFRESH-INTERVAL;VALUE=DURATION:PT1H
X-Robots-Tag:noindex
X-PUBLISHED-TTL:PT1H
BEGIN:VTIMEZONE
TZID:Europe/Madrid
BEGIN:DAYLIGHT
TZOFFSETFROM:+0100
TZOFFSETTO:+0200
TZNAME:CEST
DTSTART:20250330T010000
END:DAYLIGHT
BEGIN:STANDARD
TZOFFSETFROM:+0200
TZOFFSETTO:+0100
TZNAME:CET
DTSTART:20251026T010000
END:STANDARD
BEGIN:DAYLIGHT
TZOFFSETFROM:+0100
TZOFFSETTO:+0200
TZNAME:CEST
DTSTART:20260329T010000
END:DAYLIGHT
BEGIN:STANDARD
TZOFFSETFROM:+0200
TZOFFSETTO:+0100
TZNAME:CET
DTSTART:20261025T010000
END:STANDARD
BEGIN:DAYLIGHT
TZOFFSETFROM:+0100
TZOFFSETTO:+0200
TZNAME:CEST
DTSTART:20270328T010000
END:DAYLIGHT
BEGIN:STANDARD
TZOFFSETFROM:+0200
TZOFFSETTO:+0100
TZNAME:CET
DTSTART:20271031T010000
END:STANDARD
END:VTIMEZONE
BEGIN:VEVENT
DTSTART;VALUE=DATE:20260620
DTEND;VALUE=DATE:20260622
DTSTAMP:20260422T143814
CREATED:20251011T195334Z
LAST-MODIFIED:20260208T202641Z
UID:2861-1781913600-1782086399@triatlonvaldebebas.com
SUMMARY:CTO. ESPAÑA TRIATLÓN (CAD+JUV+JNR) @ A Coruña
DESCRIPTION:A Coruña (Galicia). \nCto. de España de Triatlón: CADETE + JUVENIL + JUNIOR.
URL:https://triatlonvaldebebas.com/event/cto-espana-triatlon-cadete-juvenil-junior-a-coruna
END:VEVENT
BEGIN:VEVENT
DTSTART;TZID=Europe/Madrid:20260620T160000
DTEND;TZID=Europe/Madrid:20260620T210000
DTSTAMP:20260422T143814
CREATED:20251230T181403Z
LAST-MODIFIED:20260208T204531Z
UID:3110-1781971200-1781989200@triatlonvaldebebas.com
SUMMARY:Triatlón ESCOLAR @ Casa de Campo (JUV+CAD+INF+ALV)
DESCRIPTION:“Gran Triatlón Madrid”. Lago de la Casa de Campo. \nCategorías prioritarias (puntuables): JUVENIL + CADETE + INFANTIL + ALEVÍN.
URL:https://triatlonvaldebebas.com/event/triatlon-escolar-casa-de-campo
END:VEVENT
END:VCALENDAR