BEGIN:VCALENDAR
VERSION:2.0
PRODID:-//TRIATLÓN VALDEBEBAS - ECPv6.15.20//NONSGML v1.0//EN
CALSCALE:GREGORIAN
METHOD:PUBLISH
X-ORIGINAL-URL:https://triatlonvaldebebas.com
X-WR-CALDESC:Eventos para TRIATLÓN VALDEBEBAS
REFRESH-INTERVAL;VALUE=DURATION:PT1H
X-Robots-Tag:noindex
X-PUBLISHED-TTL:PT1H
BEGIN:VTIMEZONE
TZID:Europe/Madrid
BEGIN:DAYLIGHT
TZOFFSETFROM:+0100
TZOFFSETTO:+0200
TZNAME:CEST
DTSTART:20240331T010000
END:DAYLIGHT
BEGIN:STANDARD
TZOFFSETFROM:+0200
TZOFFSETTO:+0100
TZNAME:CET
DTSTART:20241027T010000
END:STANDARD
BEGIN:DAYLIGHT
TZOFFSETFROM:+0100
TZOFFSETTO:+0200
TZNAME:CEST
DTSTART:20250330T010000
END:DAYLIGHT
BEGIN:STANDARD
TZOFFSETFROM:+0200
TZOFFSETTO:+0100
TZNAME:CET
DTSTART:20251026T010000
END:STANDARD
BEGIN:DAYLIGHT
TZOFFSETFROM:+0100
TZOFFSETTO:+0200
TZNAME:CEST
DTSTART:20260329T010000
END:DAYLIGHT
BEGIN:STANDARD
TZOFFSETFROM:+0200
TZOFFSETTO:+0100
TZNAME:CET
DTSTART:20261025T010000
END:STANDARD
END:VTIMEZONE
BEGIN:VEVENT
DTSTART;VALUE=DATE:20250921
DTEND;VALUE=DATE:20250922
DTSTAMP:20260424T200341
CREATED:20250916T074915Z
LAST-MODIFIED:20250916T081429Z
UID:2810-1758412800-1758499199@triatlonvaldebebas.com
SUMMARY:Triatlón Ciudad de Santander
DESCRIPTION:Categorías: Absoluta + Veteranos 1\,2\,3. Distancias: Olímpica + Half. SANTANDER (Cantabria).
URL:https://triatlonvaldebebas.com/event/triatlon-ciudad-de-santander-absoluta-veteranos-123
END:VEVENT
END:VCALENDAR